BEGIN:VCALENDAR
METHOD:PUBLISH
PRODID:-//Weblication CMS
VERSION:2.0
BEGIN:VEVENT
SUMMARY:Sprechstunde zur Frühförderung
DTSTART:20260122T143000
DTEND:20260122T160000
DESCRIPTION:In einem persönlichen Gespräch können Sie sich über die Entwicklung Ihres Kindes austauschen und beraten lassen.
LOCATION:Familienzentrum Kunterbunt in Thüle
UID:https://www.fz-kunterbunt.de/fzk/veranstaltungen/termine/fruehfoerderung.php
URL:https://www.fz-kunterbunt.de/fzk/veranstaltungen/termine/fruehfoerderung.php
END:VEVENT
BEGIN:VEVENT
SUMMARY:Sprechstunde zur Frühförderung
DTSTART:20260226T083000
DTEND:20260226T100000
DESCRIPTION:In einem persönlichen Gespräch können Sie sich über die Entwicklung Ihres Kindes austauschen und beraten lassen.
LOCATION:Familienzentrum Kunterbunt in Thüle
UID:https://www.fz-kunterbunt.de/fzk/veranstaltungen/termine/fruehfoerderung.php
URL:https://www.fz-kunterbunt.de/fzk/veranstaltungen/termine/fruehfoerderung.php
END:VEVENT
BEGIN:VEVENT
SUMMARY:Sprechstunde zur Frühförderung
DTSTART:20260326T083000
DTEND:20260326T100000
DESCRIPTION:In einem persönlichen Gespräch können Sie sich über die Entwicklung Ihres Kindes austauschen und beraten lassen.
LOCATION:Familienzentrum Kunterbunt in Thüle
UID:https://www.fz-kunterbunt.de/fzk/veranstaltungen/termine/fruehfoerderung.php
URL:https://www.fz-kunterbunt.de/fzk/veranstaltungen/termine/fruehfoerderung.php
END:VEVENT
BEGIN:VEVENT
SUMMARY:Sprechstunde zur Frühförderung
DTSTART:20260423T143000
DTEND:20260423T160000
DESCRIPTION:In einem persönlichen Gespräch können Sie sich über die Entwicklung Ihres Kindes austauschen und beraten lassen.
LOCATION:Familienzentrum Kunterbunt in Thüle
UID:https://www.fz-kunterbunt.de/fzk/veranstaltungen/termine/fruehfoerderung.php
URL:https://www.fz-kunterbunt.de/fzk/veranstaltungen/termine/fruehfoerderung.php
END:VEVENT
BEGIN:VEVENT
SUMMARY:Sprechstunde zur Frühförderung
DTSTART:20260611T143000
DTEND:20260611T160000
DESCRIPTION:In einem persönlichen Gespräch können Sie sich über die Entwicklung Ihres Kindes austauschen und beraten lassen.
LOCATION:Familienzentrum Kunterbunt in Thüle
UID:https://www.fz-kunterbunt.de/fzk/veranstaltungen/termine/fruehfoerderung.php
URL:https://www.fz-kunterbunt.de/fzk/veranstaltungen/termine/fruehfoerderung.php
END:VEVENT
END:VCALENDAR