BEGIN:VCALENDAR
METHOD:PUBLISH
PRODID:-//Weblication CMS
VERSION:2.0
BEGIN:VEVENT
SUMMARY:Drums-Alive für Eltern und Kindergartenkinder
DTSTART:20260424T163000
DTEND:20260424T171500
DESCRIPTION:Trommeln, Gymnastik und Musik für Eltern und Kinder von 3 - 6 Jahren 
LOCATION:Familienzentrum Kunterbunt in Thüle
UID:https://www.fz-kunterbunt.de/fzk/veranstaltungen/termine/drums-alive.php
URL:https://www.fz-kunterbunt.de/fzk/veranstaltungen/termine/drums-alive.php
END:VEVENT
END:VCALENDAR